BEGIN:VCALENDAR
VERSION:2.0
PRODID:http://pfarrei-teuschnitz.de
BEGIN:VEVENT
UID:caf8b5f9-36ba-11f1-a8bf-0242ac11002b-1777190400000-de
DTSTAMP:20260412T215852Z
DTSTART:20260426T080000Z
DTEND:20260426T090000Z
SUMMARY;LANGUAGE=de:Wort-Gottes-Feier mit Gebetsgedenken an:
DESCRIPTION;LANGUAGE=de:+ Margarete und Franz Jungkunz
END:VEVENT
END:VCALENDAR
