BEGIN:VCALENDAR
VERSION:2.0
PRODID:http://pfarrei-teuschnitz.de
BEGIN:VEVENT
UID:afdf7421-36ba-11f1-a8bf-0242ac11002b-1777739400000-de
DTSTAMP:20260412T215806Z
DTSTART:20260502T163000Z
DTEND:20260502T173000Z
SUMMARY;LANGUAGE=de:Bittamt für Teuschnitz in Hasslach
END:VEVENT
END:VCALENDAR
